BEGIN:VCALENDAR
VERSION:2.0
PRODID:-//eventon.com NONSGML v1.0//EN
BEGIN:VEVENT
UID:69e5ee9fd3d4f
DTSTAMP:20260420T041511
DTSTART:20210127T133000Z
DTEND:20210127T143000Z
TZID:UTC
LOCATION:Sala de reuniones de la MPI Jirón Arequipa No. 261\, 
SUMMARY:REUNIÓN CON LA ECON. KARLITA FARFÁN LÓPEZ-GJEFE DE PLANIFICACIÓN Y PRESUPUESTO
DESCRIPTION: REUNIÓN CON LA ECON. KARLITA FARFÁN LÓPEZ-GJEFE DE PLANIFICACIÓN Y PRESUPUESTO
URL:https://munimollendo.gob.pe/agenda-municipal/reunion-con-la-econ-karlita-farfan-lopez-gjefe-de-planificacion-y-presupuesto/
END:VEVENT
END:VCALENDAR