BEGIN:VCALENDAR
VERSION:2.0
PRODID:-//eventon.com NONSGML v1.0//EN
BEGIN:VEVENT
UID:69eae27a526dc
DTSTAMP:20260423T222442
DTSTART:20210114T110000Z
DTEND:20210114T150000Z
TZID:UTC
LOCATION:Oficina de Gerencia Municipal 
SUMMARY:REUNIÓN CON LA LIC. LUZ CAYRA QUIROZ-SUB GERENTE DE TESORERÍA
DESCRIPTION: REUNIÓN CON LA LIC. LUZ CAYRA QUIROZ-SUB GERENTE DE TESORERÍA
URL:https://munimollendo.gob.pe/agenda-municipal/reunion-con-la-lic-luz-cayra-quiroz-sub-gerente-de-tesoreria-3/
END:VEVENT
END:VCALENDAR