BEGIN:VCALENDAR
VERSION:2.0
PRODID:-//eventon.com NONSGML v1.0//EN
BEGIN:VEVENT
UID:69e73aa94514a
DTSTAMP:20260421T035153
DTSTART:20210111T100000Z
DTEND:20210111T170000Z
TZID:UTC
LOCATION:Oficina de Alcaldia 
SUMMARY:REUNIÓN CON EL SR. EDGAR RIVERA CERVERA-ALCALDE DE LA MPI\,  ARQ. ORLANDO ARONI-GERENTE DE INFRAESTRUCTURA\,  ABG. NANCY PACSI-PROCURADORA MUNICIPAL\,  FABRICIO PACHECO-TOPÓGRAFO Y POBLADORES DE LA ASOCIACIÓN 25 DE JUNIO
DESCRIPTION: REUNIÓN CON EL SR. EDGAR RIVERA CERVERA-ALCALDE DE LA MPI\,  ARQ. ORLANDO ARONI-GERENTE DE INFRAESTRUCTURA\,  ABG. NANCY PACSI-PROCURADORA MUNICIPAL\,  FABRICIO PACHECO-TOPÓGRAFO Y POBLADORES DE LA ASOCIACIÓN 25 DE JUNIO
URL:https://munimollendo.gob.pe/agenda-municipal/reunion-con-el-sr-edgar-rivera-cervera-alcalde-de-la-mpi-arq-orlando-aroni-gerente-de-infraestructura-abg-nancy-pacsi-procuradora-municipal-fabricio-pacheco-topografo-y-pobladores-de-la-asociaci/
END:VEVENT
END:VCALENDAR