BEGIN:VCALENDAR
VERSION:2.0
PRODID:-//eventon.com NONSGML v1.0//EN
BEGIN:VEVENT
UID:69e7cdcf57d4d
DTSTAMP:20260421T141943
DTSTART:20201203T150000Z
DTEND:20201203T164000Z
TZID:UTC
LOCATION:Oficina de Gerencia Municipal 
SUMMARY:REUNIÓN CON LA ABG. NANCY PACSI-PROCURADORA PÚBLICA
DESCRIPTION: REUNIÓN CON LA ABG. NANCY PACSI-PROCURADORA PÚBLICA
URL:https://munimollendo.gob.pe/agenda-municipal/reunion-con-la-abg-nancy-pacsi-procuradora-publica/
END:VEVENT
END:VCALENDAR