BEGIN:VCALENDAR
VERSION:2.0
PRODID:-//eventon.com NONSGML v1.0//EN
BEGIN:VEVENT
UID:69e7bcd2999ff
DTSTAMP:20260421T130714
DTSTART:20201106T113000Z
DTEND:20201106T150000Z
TZID:UTC
LOCATION:Oficina de Gerencia Municipal 
SUMMARY:REUNIÓN CON LA LIC. LUZ CAYRA QUIROZ-SUB GERENTE DE TESORERÍA
DESCRIPTION: REUNIÓN CON LA LIC. LUZ CAYRA QUIROZ-SUB GERENTE DE TESORERÍA
URL:https://munimollendo.gob.pe/agenda-municipal/reunion-con-la-lic-luz-cayra-quiroz-sub-gerente-de-tesoreria-2/
END:VEVENT
END:VCALENDAR