BEGIN:VCALENDAR
VERSION:2.0
PRODID:-//eventon.com NONSGML v1.0//EN
BEGIN:VEVENT
UID:69e68af98b864
DTSTAMP:20260420T152217
DTSTART:20201026T150000Z
DTEND:20201026T160000Z
TZID:UTC
LOCATION:Oficina de Alcaldia 
SUMMARY:REUNIÓN CON EL SR. EDGAR RIVERA-ALCALDE\,  LIC. ROCÍO CERVANTES-GERENTE DE DESARROLLO SOCIAL Y ECONÓMICO Y  SEÑORES DEL GOBIERNO REGIONAL
DESCRIPTION: REUNIÓN CON EL SR. EDGAR RIVERA-ALCALDE\,  LIC. ROCÍO CERVANTES-GERENTE DE DESARROLLO SOCIAL Y ECONÓMICO Y SEÑORES DEL GOBIERNO REGIONAL
URL:https://munimollendo.gob.pe/agenda-municipal/reunion-con-el-sr-edgar-rivera-alcalde-lic-rocio-cervantes-gerente-de-desarrollo-social-y-economico-y-senores-del-gobierno-regional-2/
END:VEVENT
END:VCALENDAR