BEGIN:VCALENDAR
VERSION:2.0
PRODID:-//eventon.com NONSGML v1.0//EN
BEGIN:VEVENT
UID:69e5c9381dbea
DTSTAMP:20260420T013536
DTSTART:20201023T093000Z
DTEND:20201023T110000Z
TZID:UTC
LOCATION:Estación Cultural 
SUMMARY:REUNIÓN CON EL SR. EDGAR RIVERA-ALCALDE\,  LIC. ROCÍO CERVANTES-GERENTE DE DESARROLLO SOCIAL Y ECONÓMICO Y  SEÑORES DEL GOBIERNO REGIONAL
DESCRIPTION: REUNIÓN CON EL SR. EDGAR RIVERA-ALCALDE\,  LIC. ROCÍO CERVANTES-GERENTE DE DESARROLLO SOCIAL Y ECONÓMICO Y SEÑORES DEL GOBIERNO REGIONAL
URL:https://munimollendo.gob.pe/agenda-municipal/reunion-con-el-sr-edgar-rivera-alcalde-lic-rocio-cervantes-gerente-de-desarrollo-social-y-economico-y-senores-del-gobierno-regional/
END:VEVENT
END:VCALENDAR