BEGIN:VCALENDAR
VERSION:2.0
PRODID:-//eventon.com NONSGML v1.0//EN
BEGIN:VEVENT
UID:69ea8d13be622
DTSTAMP:20260423T162019
DTSTART:20201020T160000Z
DTEND:20201020T170000Z
TZID:UTC
LOCATION:Oficina de Gerencia Municipal 
SUMMARY:REUNIÓN CON PATRICIA ROJAS VIZA-GESTOR DE INVERSIONES
DESCRIPTION: REUNIÓN CON PATRICIA ROJAS VIZA-GESTOR DE INVERSIONES
URL:https://munimollendo.gob.pe/agenda-municipal/reunion-con-patricia-rojas-viza-gestor-de-inversiones/
END:VEVENT
END:VCALENDAR