BEGIN:VCALENDAR
VERSION:2.0
PRODID:-//eventon.com NONSGML v1.0//EN
BEGIN:VEVENT
UID:69e510686ce9a
DTSTAMP:20260419T122704
DTSTART:20201016T093000Z
DTEND:20201016T112000Z
TZID:UTC
LOCATION:Oficina de Gerencia Municipal 
SUMMARY:REUNIÓN CON LA ABG. MARY ANN-ASESORA LEGAL
DESCRIPTION: REUNIÓN CON LA ABG. MARY ANN-ASESORA LEGAL
URL:https://munimollendo.gob.pe/agenda-municipal/reunion-con-la-abg-mary-ann-asesora-legal/
END:VEVENT
END:VCALENDAR