BEGIN:VCALENDAR
VERSION:2.0
PRODID:-//eventon.com NONSGML v1.0//EN
BEGIN:VEVENT
UID:69e7db4bc43cf
DTSTAMP:20260421T151715
DTSTART:20191126T113000Z
DTEND:20191126T121000Z
TZID:UTC
LOCATION:Sala de reuniones de la MPI Jirón Arequipa No. 261\, 
SUMMARY:REUNIÓN CON LA ABOG. SILVIA RAMOS NINA-ASESORA LEGAL
DESCRIPTION: REUNIÓN CON LA ABOG. SILVIA RAMOS NINA-ASESORA LEGAL
URL:https://munimollendo.gob.pe/agenda-municipal/reunion-con-la-abog-silvia-ramos-nina-asesora-legal-3/
END:VEVENT
END:VCALENDAR