BEGIN:VCALENDAR
VERSION:2.0
PRODID:-//eventon.com NONSGML v1.0//EN
BEGIN:VEVENT
UID:69ed1eb118db9
DTSTAMP:20260425T150609
DTSTART:20191120T083000Z
DTEND:20191120T085000Z
TZID:UTC
LOCATION:Oficina de Gerencia Municipal 
SUMMARY:REUNIÓN CON LA SUB GERENTE DE INFORMÁTICA-LIC. ROSA TICONA
DESCRIPTION: REUNIÓN CON LA SUB GERENTE DE INFORMÁTICA-LIC. ROSA TICONA
URL:https://munimollendo.gob.pe/agenda-municipal/reunion-con-la-sub-gerente-de-informatica-lic-rosa-ticona/
END:VEVENT
END:VCALENDAR