BEGIN:VCALENDAR
VERSION:2.0
PRODID:-//eventon.com NONSGML v1.0//EN
BEGIN:VEVENT
UID:69e94033c3b7d
DTSTAMP:20260422T164003
DTSTART:20191118T090000Z
DTEND:20191118T100000Z
TZID:UTC
LOCATION:Arequipa 
SUMMARY:COMISIÓN DE SERVICIOS EN PROVIAS DESCENTRALIZADO
DESCRIPTION: COMISIÓN DE SERVICIOS EN PROVIAS DESCENTRALIZADO
URL:https://munimollendo.gob.pe/agenda-municipal/comision-de-servicios-en-provias-descentralizado/
END:VEVENT
END:VCALENDAR