BEGIN:VCALENDAR
VERSION:2.0
PRODID:-//eventon.com NONSGML v1.0//EN
BEGIN:VEVENT
UID:69ecb4c8553d5
DTSTAMP:20260425T073416
DTSTART:20191018T143000Z
DTEND:20191018T150000Z
TZID:UTC
LOCATION:Oficina de Gerencia Municipal 
SUMMARY:REUNIÓN CON LA SUB GERENTE DE LOGÍSTICA-LIC. LADY CORNEJO
DESCRIPTION: REUNIÓN CON LA SUB GERENTE DE LOGÍSTICA-LIC. LADY CORNEJO
URL:https://munimollendo.gob.pe/agenda-municipal/reunion-con-la-sub-gerente-de-logistica-lic-lady-cornejo-7/
END:VEVENT
END:VCALENDAR