BEGIN:VCALENDAR
VERSION:2.0
PRODID:-//eventon.com NONSGML v1.0//EN
BEGIN:VEVENT
UID:69e89dd7b062b
DTSTAMP:20260422T050719
DTSTART:20191009T090000Z
DTEND:20191009T100000Z
TZID:UTC
LOCATION:Oficina de Gerencia Municipal 
SUMMARY:REUNIÓN CON LA SRA. TERESA CARI-SINDICATO DE OBREROS
DESCRIPTION: REUNIÓN CON LA SRA. TERESA CARI-SINDICATO DE OBREROS
URL:https://munimollendo.gob.pe/agenda-municipal/reunion-con-la-sra-teresa-cari-sindicato-de-obreros-2/
END:VEVENT
END:VCALENDAR