BEGIN:VCALENDAR
VERSION:2.0
PRODID:-//eventon.com NONSGML v1.0//EN
BEGIN:VEVENT
UID:69e9130346c77
DTSTAMP:20260422T132715
DTSTART:20190925T093000Z
DTEND:20190925T100000Z
TZID:UTC
LOCATION:Oficina de Gerencia Municipal 
SUMMARY:REUNIÓN CON LOS SEÑORES TORRES MESA Y WALTHER FERNÁNDEZ
DESCRIPTION: REUNIÓN CON LOS SEÑORES TORRES MESA Y WALTHER FERNÁNDEZ
URL:https://munimollendo.gob.pe/agenda-municipal/reunion-con-los-senores-torres-mesa-y-walther-fernandez/
END:VEVENT
END:VCALENDAR