BEGIN:VCALENDAR
VERSION:2.0
PRODID:-//eventon.com NONSGML v1.0//EN
BEGIN:VEVENT
UID:69e6a7449c640
DTSTAMP:20260420T172300
DTSTART:20190924T140000Z
DTEND:20190924T150000Z
TZID:UTC
LOCATION:Oficina de Gerencia Municipal 
SUMMARY:REUNIÓN CON LA SUB GERENTE DE CONTABILIDAD-LIC. VANESSA DELGADO
DESCRIPTION: REUNIÓN CON LA SUB GERENTE DE CONTABILIDAD-LIC. VANESSA DELGADO
URL:https://munimollendo.gob.pe/agenda-municipal/reunion-con-la-sub-gerente-de-contabilidad-lic-vanessa-delgado-3/
END:VEVENT
END:VCALENDAR