BEGIN:VCALENDAR
VERSION:2.0
PRODID:-//eventon.com NONSGML v1.0//EN
BEGIN:VEVENT
UID:69e9c2376ff06
DTSTAMP:20260423T015447
DTSTART:20190917T113000Z
DTEND:20190917T120000Z
TZID:UTC
LOCATION:Oficina de Gerencia Municipal 
SUMMARY:REUNIÓN CON LA ABOG. SILVIA RAMOS NINA-JEFE DE ASESORÍA JURÍDICA
DESCRIPTION: REUNIÓN CON LA ABOG. SILVIA RAMOS NINA-JEFE DE ASESORÍA JURÍDICA
URL:https://munimollendo.gob.pe/agenda-municipal/reunion-con-la-abog-silvia-ramos-nina-jefe-de-asesoria-juridica/
END:VEVENT
END:VCALENDAR