BEGIN:VCALENDAR
VERSION:2.0
PRODID:-//eventon.com NONSGML v1.0//EN
BEGIN:VEVENT
UID:69e528e03f61e
DTSTAMP:20260419T141128
DTSTART:20190903T090000Z
DTEND:20190903T101500Z
TZID:UTC
LOCATION:Oficina de Gerencia Municipal 
SUMMARY:REUNIÓN CON LA ARQ. LIZ JIRONZINI Y ARQ. GIANCARLO HUERTA-GERENTE DE INFRAESTRUCTURA Y DESARROLLO
DESCRIPTION: REUNIÓN CON LA ARQ. LIZ JIRONZINI Y ARQ. GIANCARLO HUERTA-GERENTE DE INFRAESTRUCTURA Y DESARROLLO
URL:https://munimollendo.gob.pe/agenda-municipal/reunion-con-la-arq-liz-jironzini-y-arq-giancarlo-huerta-gerente-de-infraestructura-y-desarrollo/
END:VEVENT
END:VCALENDAR