BEGIN:VCALENDAR
VERSION:2.0
PRODID:-//eventon.com NONSGML v1.0//EN
BEGIN:VEVENT
UID:69e949fdb85b1
DTSTAMP:20260422T172149
DTSTART:20190816T090000Z
DTEND:20190816T100000Z
TZID:UTC
LOCATION:Oficina de Gerencia Municipal 
SUMMARY:REUNIÓN CON LA GERENTE DE PLANIFICACIÓN Y PRESUPUESTO-ECON. KARLITA FARFÁN
DESCRIPTION: REUNIÓN CON LA GERENTE DE PLANIFICACIÓN Y PRESUPUESTO-ECON. KARLITA FARFÁN
URL:https://munimollendo.gob.pe/agenda-municipal/reunion-con-la-gerente-de-planificacion-y-presupuesto-econ-karlita-farfan-5/
END:VEVENT
END:VCALENDAR