BEGIN:VCALENDAR
VERSION:2.0
PRODID:-//eventon.com NONSGML v1.0//EN
BEGIN:VEVENT
UID:69e5b45ec15bb
DTSTAMP:20260420T000638
DTSTART:20190807T084000Z
DTEND:20190807T090000Z
TZID:UTC
LOCATION:Oficina de Gerencia Municipal 
SUMMARY:REUNIÓN CON LA GERENTE DE PLANIFICACIÓN Y PRESUPUESTO-ECON. KARLITA FARFÁN
DESCRIPTION: REUNIÓN CON LA GERENTE DE PLANIFICACIÓN Y PRESUPUESTO-ECON. KARLITA FARFÁN
URL:https://munimollendo.gob.pe/agenda-municipal/reunion-con-la-gerente-de-planificacion-y-presupuesto-econ-karlita-farfan-2/
END:VEVENT
END:VCALENDAR