BEGIN:VCALENDAR
VERSION:2.0
PRODID:-//eventon.com NONSGML v1.0//EN
BEGIN:VEVENT
UID:69e9f0e39f528
DTSTAMP:20260423T051355
DTSTART:20190805T123000Z
DTEND:20190805T140000Z
TZID:UTC
LOCATION:Oficina de Gerencia Municipal 
SUMMARY:REUNIÓN CON LA SUB GERENTE DE LOGÍSTICA-LIC. LADY CORNEJO ZAVALA
DESCRIPTION: REUNIÓN CON LA SUB GERENTE DE LOGÍSTICA-LIC. LADY CORNEJO ZAVALA
URL:https://munimollendo.gob.pe/agenda-municipal/reunion-con-la-sub-gerente-de-logistica-lic-lady-cornejo-zavala-5/
END:VEVENT
END:VCALENDAR