BEGIN:VCALENDAR
VERSION:2.0
PRODID:-//eventon.com NONSGML v1.0//EN
BEGIN:VEVENT
UID:69e4de17aeeae
DTSTAMP:20260419T085223
DTSTART:20190805T113000Z
DTEND:20190805T123000Z
TZID:UTC
LOCATION:Sala de reuniones de la MPI Jirón Arequipa No. 261\, 
SUMMARY:REUNIÓN CON EL ALCALDE\,  ARQ. LALO ABUGATAS Y EL ARQ. DE INFRAESTRUCTURA Y DESARROLLO URBANO GIANCARLO HUERTA
DESCRIPTION: REUNIÓN CON EL ALCALDE\,  ARQ. LALO ABUGATAS Y EL ARQ. DE INFRAESTRUCTURA Y DESARROLLO URBANO GIANCARLO HUERTA
URL:https://munimollendo.gob.pe/agenda-municipal/reunion-con-el-alcalde-arq-lalo-abugatas-y-el-arq-de-infraestructura-y-desarrollo-urbano-giancarlo-huerta/
END:VEVENT
END:VCALENDAR