BEGIN:VCALENDAR
VERSION:2.0
PRODID:-//eventon.com NONSGML v1.0//EN
BEGIN:VEVENT
UID:69e86db42a8a1
DTSTAMP:20260422T014156
DTSTART:20190709T160000Z
DTEND:20190709T170000Z
TZID:UTC
LOCATION:Oficina de Gerencia Municipal 
SUMMARY:REUNIÓN CON LA GERENCIA DE DESARROLLO SOCIAL Y ECONÓMICO Y PROFESOR MOTTA
DESCRIPTION: REUNIÓN CON LA GERENCIA DE DESARROLLO SOCIAL Y ECONÓMICO Y PROFESOR MOTTA
URL:https://munimollendo.gob.pe/agenda-municipal/reunion-con-la-gerencia-de-desarrollo-social-y-economico-y-profesor-motta/
END:VEVENT
END:VCALENDAR