BEGIN:VCALENDAR
VERSION:2.0
PRODID:-//eventon.com NONSGML v1.0//EN
BEGIN:VEVENT
UID:69e923cbcd0f4
DTSTAMP:20260422T143851
DTSTART:20190704T080000Z
DTEND:20190704T090000Z
TZID:UTC
LOCATION:Sala de reuniones de la MPI Jirón Arequipa No. 261\, 
SUMMARY:REUNIÓN JEFA OF. PROGRAMACIÓN E INVERSIONES\,  JEFA DE PLANIFICACIÓN Y PRESUPUESTO Y GERENTE DE INFRAESTRUCTURA Y DESARROLLO URBANO
DESCRIPTION: REUNIÓN JEFA OF. PROGRAMACIÓN E INVERSIONES\,  JEFA DE PLANIFICACIÓN Y PRESUPUESTO Y GERENTE DE INFRAESTRUCTURA Y DESARROLLO URBANO
URL:https://munimollendo.gob.pe/agenda-municipal/reunion-jefa-of-programacion-e-inversiones-jefa-de-planificacion-y-presupuesto-y-gerente-de-infraestructura-y-desarrollo-urbano/
END:VEVENT
END:VCALENDAR