BEGIN:VCALENDAR
VERSION:2.0
PRODID:-//eventon.com NONSGML v1.0//EN
BEGIN:VEVENT
UID:69ec018e6f87b
DTSTAMP:20260424T184934
DTSTART:20190604T100000Z
DTEND:20190604T100000Z
TZID:UTC
LOCATION:Sala de reuniones de la MPI Jirón Arequipa No. 261\, 
SUMMARY:REUNIÓN CON EL ALCALDE\,  ARQ. KATY MONTERO Y J.U. ENSENADA MEJÍA
DESCRIPTION: REUNIÓN CON EL ALCALDE\,  ARQ. KATY MONTERO Y J.U. ENSENADA MEJÍA
URL:https://munimollendo.gob.pe/agenda-municipal/reunion-con-el-alcalde-arq-katy-montero-y-j-u-ensenada-mejia/
END:VEVENT
END:VCALENDAR