BEGIN:VCALENDAR
VERSION:2.0
PRODID:-//eventon.com NONSGML v1.0//EN
BEGIN:VEVENT
UID:69ecb23ce61b1
DTSTAMP:20260425T072324
DTSTART:20190521T110000Z
DTEND:20190521T113000Z
TZID:UTC
LOCATION:Oficina de Gerencia Municipal 
SUMMARY:Reunión con el Arq. Lalo Abugattas
DESCRIPTION: Reunión con el Arq. Lalo Abugattas
URL:https://munimollendo.gob.pe/agenda-municipal/reunion-con-el-arq-lalo-abugattas/
END:VEVENT
END:VCALENDAR