BEGIN:VCALENDAR
VERSION:2.0
PRODID:-//eventon.com NONSGML v1.0//EN
BEGIN:VEVENT
UID:69e5793bedabd
DTSTAMP:20260419T195419
DTSTART:20190502T113000Z
DTEND:20190502T120000Z
TZID:UTC
LOCATION:Oficina de Gerencia Municipal 
SUMMARY:Reunión con el Ing. Walther Romany
DESCRIPTION: Reunión con el Ing. Walther Romany
URL:https://munimollendo.gob.pe/agenda-municipal/reunion-con-el-ing-walther-romany/
END:VEVENT
END:VCALENDAR