BEGIN:VCALENDAR
VERSION:2.0
PRODID:-//eventon.com NONSGML v1.0//EN
BEGIN:VEVENT
UID:69ece5ccdc23f
DTSTAMP:20260425T110324
DTSTART:20190411T110000Z
DTEND:20190411T120000Z
TZID:UTC
LOCATION:Oficina de Gerencia Municipal 
SUMMARY:Reunión con INDECOPI
DESCRIPTION: Reunión con INDECOPI
URL:https://munimollendo.gob.pe/agenda-municipal/reunion-con-indecopi/
END:VEVENT
END:VCALENDAR