BEGIN:VCALENDAR
VERSION:2.0
PRODID:-//eventon.com NONSGML v1.0//EN
BEGIN:VEVENT
UID:69e87d4668632
DTSTAMP:20260422T024822
DTSTART:20190325T133000Z
DTEND:20190325T140000Z
TZID:UTC
LOCATION:Oficina de Gerencia Municipal 
SUMMARY:Reunión con el Sr. Jerónimo Rivera
DESCRIPTION: Reunión con el Sr. Jerónimo Rivera
URL:https://munimollendo.gob.pe/agenda-municipal/reunion-con-el-sr-jeronimo-rivera/
END:VEVENT
END:VCALENDAR