BEGIN:VCALENDAR
VERSION:2.0
PRODID:-//eventon.com NONSGML v1.0//EN
BEGIN:VEVENT
UID:69ebe72361a7a
DTSTAMP:20260424T165651
DTSTART:20190321T164000Z
DTEND:20190321T170000Z
TZID:UTC
LOCATION:Oficina de Gerencia Municipal 
SUMMARY:Reunión con el Dr. Percy Zeballos-Asesor Externo de Ing. Infraestructura
DESCRIPTION: Reunión con el Dr. Percy Zeballos-Asesor Externo de Ing. Infraestructura
URL:https://munimollendo.gob.pe/agenda-municipal/reunion-con-el-dr-percy-zeballos-asesor-externo-de-ing-infraestructura/
END:VEVENT
END:VCALENDAR