BEGIN:VCALENDAR
VERSION:2.0
PRODID:-//eventon.com NONSGML v1.0//EN
BEGIN:VEVENT
UID:69e9aaf05b7d6
DTSTAMP:20260423T001528
DTSTART:20190319T110000Z
DTEND:20190319T000000Z
TZID:UTC
LOCATION:Sala de reuniones de la MPI Jirón Arequipa No. 261\, 
SUMMARY:Reunión con la Sub Gerencia de Riesgos\,  Alcalde y Gerencias
DESCRIPTION: Reunión con la Sub Gerencia de Riesgos\,  Alcalde y Gerencias
URL:https://munimollendo.gob.pe/agenda-municipal/reunion-con-la-sub-gerencia-de-riesgos-alcalde-y-gerencias/
END:VEVENT
END:VCALENDAR