BEGIN:VCALENDAR
VERSION:2.0
PRODID:-//eventon.com NONSGML v1.0//EN
BEGIN:VEVENT
UID:69e79fd7b9283
DTSTAMP:20260421T110335
DTSTART:20190318T145000Z
DTEND:20190318T153000Z
TZID:UTC
LOCATION:Sala de reuniones de la MPI Jirón Arequipa No. 261\, 
SUMMARY:Reunión con la Procuradora - Abog. Nancy Pacsy Tejada
DESCRIPTION: Reunión con la Procuradora &#8211; Abog. Nancy Pacsy Tejada
URL:https://munimollendo.gob.pe/agenda-municipal/reunion-con-la-procuradora-abog-nancy-pacsy-tejada/
END:VEVENT
END:VCALENDAR