BEGIN:VCALENDAR
VERSION:2.0
PRODID:-//eventon.com NONSGML v1.0//EN
BEGIN:VEVENT
UID:69ece417bc637
DTSTAMP:20260425T105607
DTSTART:20190318T100000Z
DTEND:20190318T102000Z
TZID:UTC
LOCATION:Oficina de Gerencia Municipal 
SUMMARY:Reunión con la Sra. Ana Lucía
DESCRIPTION: Reunión con la Sra. Ana Lucía
URL:https://munimollendo.gob.pe/agenda-municipal/reunion-con-la-sra-ana-lucia/
END:VEVENT
END:VCALENDAR