BEGIN:VCALENDAR
VERSION:2.0
PRODID:-//eventon.com NONSGML v1.0//EN
BEGIN:VEVENT
UID:69ed18f17ad35
DTSTAMP:20260425T144137
DTSTART:20190208T035000Z
DTEND:20190208T050000Z
TZID:UTC
LOCATION:Sala de reuniones de la MPI Jirón Arequipa No. 261\, 
SUMMARY:Reunión con PROYFE
DESCRIPTION: Reunión con PROYFE
URL:https://munimollendo.gob.pe/agenda-municipal/reunion-con-proyfe/
END:VEVENT
END:VCALENDAR