BEGIN:VCALENDAR
VERSION:2.0
PRODID:-//eventon.com NONSGML v1.0//EN
BEGIN:VEVENT
UID:69ed65a3c7069
DTSTAMP:20260425T200851
DTSTART:20190206T103000Z
DTEND:20190206T113000Z
TZID:UTC
LOCATION:Estación Cultural 
SUMMARY:Reunión de Plataforma de Defensa Civil
DESCRIPTION: Reunión de Plataforma de Defensa Civil
URL:https://munimollendo.gob.pe/agenda-municipal/reunion-de-plataforma-de-defensa-civil/
END:VEVENT
END:VCALENDAR