BEGIN:VCALENDAR
VERSION:2.0
PRODID:-//eventon.com NONSGML v1.0//EN
BEGIN:VEVENT
UID:69e7a52523b6a
DTSTAMP:20260421T112613
DTSTART:20190130T140000Z
DTEND:20190130T143000Z
TZID:UTC
LOCATION:Oficina de Gerencia Municipal 
SUMMARY:Reunión Sra. Rocío Cervantes-Desarrollo Social
DESCRIPTION: Reunión Sra. Rocío Cervantes-Desarrollo Social
URL:https://munimollendo.gob.pe/agenda-municipal/reunion-sra-rocio-cervantes-desarrollo-social/
END:VEVENT
END:VCALENDAR