BEGIN:VCALENDAR
VERSION:2.0
PRODID:-//eventon.com NONSGML v1.0//EN
BEGIN:VEVENT
UID:69e9bb403ca43
DTSTAMP:20260423T012504
DTSTART:20210619T010000Z
DTEND:20210619T040000Z
TZID:Pacific/Midway
LOCATION:Oficina de Gerencia Municipal 
SUMMARY:REUNIÓN CON LA ABG. NANCY PACSI TEJADA-PROCURADORA MUNICIPAL
DESCRIPTION: REUNIÓN CON LA ABG. NANCY PACSI TEJADA-PROCURADORA MUNICIPAL
URL:https://munimollendo.gob.pe/agenda-municipal/reunion-con-la-abg-nancy-pacsi-tejada-procuradora-municipal-14/
END:VEVENT
END:VCALENDAR