BEGIN:VCALENDAR
VERSION:2.0
PRODID:-//eventon.com NONSGML v1.0//EN
BEGIN:VEVENT
UID:69ed6498d6699
DTSTAMP:20260425T200424
DTSTART:20210618T020000Z
DTEND:20210618T040000Z
TZID:Pacific/Midway
LOCATION:Oficina de Gerencia Municipal 
SUMMARY:REUNIÓN CON LA ABG. MARY ANN LLUNCOR ZÚÑIGA-SECRETARIA GENERAL
DESCRIPTION: REUNIÓN CON LA ABG. MARY ANN LLUNCOR ZÚÑIGA-SECRETARIA GENERAL
URL:https://munimollendo.gob.pe/agenda-municipal/reunion-con-la-abg-mary-ann-lluncor-zuniga-secretaria-general-2/
END:VEVENT
END:VCALENDAR