BEGIN:VCALENDAR
VERSION:2.0
PRODID:-//eventon.com NONSGML v1.0//EN
BEGIN:VEVENT
UID:69ed84d5c2f6b
DTSTAMP:20260425T222157
DTSTART:20210610T210000Z
DTEND:20210610T230000Z
TZID:Pacific/Midway
LOCATION:Oficina de Gerencia Municipal 
SUMMARY:REUNIÓN CON LA ABG. NANCY PACSI TEJADA
DESCRIPTION: REUNIÓN CON LA ABG. NANCY PACSI TEJADA
URL:https://munimollendo.gob.pe/agenda-municipal/reunion-con-la-abg-nancy-pacsi-tejada/
END:VEVENT
END:VCALENDAR