BEGIN:VCALENDAR
VERSION:2.0
PRODID:-//eventon.com NONSGML v1.0//EN
BEGIN:VEVENT
UID:69ed6b190d46b
DTSTAMP:20260425T203209
DTSTART:20210602T093000Z
DTEND:20210602T103000Z
TZID:UTC
LOCATION:Sala de reuniones de la MPI Jirón Arequipa No. 261\, 
SUMMARY:REUNIÓN CON LA GERENCIA DE ADMINISTRACIÓN\,  SUB GERENCIA DE LOGÍSTICA Y LA SRA. DANY HERRERA
DESCRIPTION: REUNIÓN CON LA GERENCIA DE ADMINISTRACIÓN\,  SUB GERENCIA DE LOGÍSTICA Y LA SRA. DANY HERRERA
URL:https://munimollendo.gob.pe/agenda-municipal/reunion-con-la-gerencia-de-administracion-sub-gerencia-de-logistica-y-la-sra-dany-herrera/
END:VEVENT
END:VCALENDAR