BEGIN:VCALENDAR
VERSION:2.0
PRODID:-//eventon.com NONSGML v1.0//EN
BEGIN:VEVENT
UID:69e530e9d7176
DTSTAMP:20260419T144545
DTSTART:20210524T090000Z
DTEND:20210524T170000Z
TZID:UTC
LOCATION:Oficina de Gerencia Municipal 
SUMMARY:REUNIÓN CON LA SUB GERENCIA DE LOGÍSTICA\,  TESORERÍA\,  CONTABILIDAD
DESCRIPTION: REUNIÓN CON LA SUB GERENCIA DE LOGÍSTICA\,  TESORERÍA\,  CONTABILIDAD
URL:https://munimollendo.gob.pe/agenda-municipal/reunion-con-la-sub-gerencia-de-logistica-tesoreria-contabilidad/
END:VEVENT
END:VCALENDAR