BEGIN:VCALENDAR
VERSION:2.0
PRODID:-//eventon.com NONSGML v1.0//EN
BEGIN:VEVENT
UID:69ea7f1f9c15c
DTSTAMP:20260423T152047
DTSTART:20210504T150000Z
DTEND:20210504T153000Z
TZID:UTC
LOCATION:Oficina de Gerencia Municipal 
SUMMARY:REUNIÓN CON EL SR. ALCALDE EDGAR RIVERA CERVERA
DESCRIPTION: REUNIÓN CON EL SR. ALCALDE EDGAR RIVERA CERVERA
URL:https://munimollendo.gob.pe/agenda-municipal/reunion-con-el-sr-alcalde-edgar-rivera-cervera/
END:VEVENT
END:VCALENDAR