BEGIN:VCALENDAR
VERSION:2.0
PRODID:-//Municipalidad Provincial de Islay - ECPv5.1.5//NONSGML v1.0//EN
CALSCALE:GREGORIAN
METHOD:PUBLISH
X-WR-CALNAME:Municipalidad Provincial de Islay
X-ORIGINAL-URL:https://munimollendo.gob.pe
X-WR-CALDESC:Eventos para Municipalidad Provincial de Islay
BEGIN:VTIMEZONE
TZID:America/Lima
BEGIN:STANDARD
TZOFFSETFROM:-0500
TZOFFSETTO:-0500
TZNAME:-05
DTSTART:20200101T000000
END:STANDARD
END:VTIMEZONE
BEGIN:VEVENT
DTSTART;TZID=America/Lima:20200720T080000
DTEND;TZID=America/Lima:20200720T170000
DTSTAMP:20260425T220815
CREATED:20200904T214036Z
LAST-MODIFIED:20200904T214036Z
UID:7540-1595232000-1595264400@munimollendo.gob.pe
SUMMARY:TRABAJO REMOTO
DESCRIPTION:TRABAJO REMOTO \n
URL:https://munimollendo.gob.pe/agenda/trabajo-remoto/
END:VEVENT
END:VCALENDAR