BEGIN:VCALENDAR
VERSION:2.0
PRODID:-//Municipalidad Provincial de Islay - ECPv5.1.5//NONSGML v1.0//EN
CALSCALE:GREGORIAN
METHOD:PUBLISH
X-WR-CALNAME:Municipalidad Provincial de Islay
X-ORIGINAL-URL:https://munimollendo.gob.pe
X-WR-CALDESC:Eventos para Municipalidad Provincial de Islay
BEGIN:VTIMEZONE
TZID:America/Lima
BEGIN:STANDARD
TZOFFSETFROM:-0500
TZOFFSETTO:-0500
TZNAME:-05
DTSTART:20210101T000000
END:STANDARD
END:VTIMEZONE
BEGIN:VEVENT
DTSTART;TZID=America/Lima:20210519T170000
DTEND;TZID=America/Lima:20210519T170000
DTSTAMP:20260422T162450
CREATED:20210617T164456Z
LAST-MODIFIED:20210617T164456Z
UID:10483-1621443600-1621443600@munimollendo.gob.pe
SUMMARY:SESION VIRTUAL INFORMATIVA Y DE TRABAJO DE ALCALDES PROVINCIALES CON LA COMISION ANTICORRUPCION DE AREQUIPA
DESCRIPTION:SESION VIRTUAL INFORMATIVA Y DE TRABAJO DE ALCALDES PROVINCIALES CON LA COMISION ANTICORRUPCION DE AREQUIPA \n
URL:https://munimollendo.gob.pe/agenda/sesion-virtual-informativa-y-de-trabajo-de-alcaldes-provinciales-con-la-comision-anticorrupcion-de-arequipa/
LOCATION:Virtual
END:VEVENT
END:VCALENDAR