BEGIN:VCALENDAR
VERSION:2.0
PRODID:-//Municipalidad Provincial de Islay - ECPv5.1.5//NONSGML v1.0//EN
CALSCALE:GREGORIAN
METHOD:PUBLISH
X-WR-CALNAME:Municipalidad Provincial de Islay
X-ORIGINAL-URL:https://munimollendo.gob.pe
X-WR-CALDESC:Eventos para Municipalidad Provincial de Islay
BEGIN:VTIMEZONE
TZID:America/Lima
BEGIN:STANDARD
TZOFFSETFROM:-0500
TZOFFSETTO:-0500
TZNAME:-05
DTSTART:20190101T000000
END:STANDARD
END:VTIMEZONE
BEGIN:VEVENT
DTSTART;TZID=America/Lima:20191124T140000
DTEND;TZID=America/Lima:20191124T160000
DTSTAMP:20260424T080537
CREATED:20200107T194317Z
LAST-MODIFIED:20200107T194317Z
UID:5302-1574604000-1574611200@munimollendo.gob.pe
SUMMARY:Segundo casting de miss mollendo 2020
DESCRIPTION:Segundo casting de miss mollendo 2020 \n
URL:https://munimollendo.gob.pe/agenda/segundo-casting-de-miss-mollendo-2020/
LOCATION:Estación Cultural\, Mollendo\, Islay\, Perú
END:VEVENT
END:VCALENDAR