BEGIN:VCALENDAR
VERSION:2.0
PRODID:-//Municipalidad Provincial de Islay - ECPv5.1.5//NONSGML v1.0//EN
CALSCALE:GREGORIAN
METHOD:PUBLISH
X-WR-CALNAME:Municipalidad Provincial de Islay
X-ORIGINAL-URL:https://munimollendo.gob.pe
X-WR-CALDESC:Eventos para Municipalidad Provincial de Islay
BEGIN:VTIMEZONE
TZID:America/Lima
BEGIN:STANDARD
TZOFFSETFROM:-0500
TZOFFSETTO:-0500
TZNAME:-05
DTSTART:20190101T000000
END:STANDARD
END:VTIMEZONE
BEGIN:VEVENT
DTSTART;TZID=America/Lima:20191126T080000
DTEND;TZID=America/Lima:20191126T130000
DTSTAMP:20260422T093517
CREATED:20200107T194916Z
LAST-MODIFIED:20200107T194916Z
UID:5312-1574755200-1574773200@munimollendo.gob.pe
SUMMARY:Reuniones Varias
DESCRIPTION:Reuniones Varias \n
URL:https://munimollendo.gob.pe/agenda/reuniones-varias-9/
LOCATION:Municipalidad Provincial de Islay\, Jirón Arequipa No. 261\,\, Mollendo\, Islay\, Perú
END:VEVENT
END:VCALENDAR