BEGIN:VCALENDAR
VERSION:2.0
PRODID:-//Municipalidad Provincial de Islay - ECPv5.1.5//NONSGML v1.0//EN
CALSCALE:GREGORIAN
METHOD:PUBLISH
X-WR-CALNAME:Municipalidad Provincial de Islay
X-ORIGINAL-URL:https://munimollendo.gob.pe
X-WR-CALDESC:Eventos para Municipalidad Provincial de Islay
BEGIN:VTIMEZONE
TZID:America/Lima
BEGIN:STANDARD
TZOFFSETFROM:-0500
TZOFFSETTO:-0500
TZNAME:-05
DTSTART:20200101T000000
END:STANDARD
END:VTIMEZONE
BEGIN:VEVENT
DTSTART;TZID=America/Lima:20200702T080000
DTEND;TZID=America/Lima:20200702T170000
DTSTAMP:20260422T024535
CREATED:20200904T210226Z
LAST-MODIFIED:20200904T210226Z
UID:7510-1593676800-1593709200@munimollendo.gob.pe
SUMMARY:REUNIONES VARIAS
DESCRIPTION:REUNIONES VARIAS \n
URL:https://munimollendo.gob.pe/agenda/reuniones-varias-29/
LOCATION:Oficina de Alcaldia\, Jirón Arequipa No. 261\,\, Mollendo\, Islay\, Perú
END:VEVENT
END:VCALENDAR