BEGIN:VCALENDAR
VERSION:2.0
PRODID:-//Municipalidad Provincial de Islay - ECPv5.1.5//NONSGML v1.0//EN
CALSCALE:GREGORIAN
METHOD:PUBLISH
X-WR-CALNAME:Municipalidad Provincial de Islay
X-ORIGINAL-URL:https://munimollendo.gob.pe
X-WR-CALDESC:Eventos para Municipalidad Provincial de Islay
BEGIN:VTIMEZONE
TZID:America/Lima
BEGIN:STANDARD
TZOFFSETFROM:-0500
TZOFFSETTO:-0500
TZNAME:-05
DTSTART:20190101T000000
END:STANDARD
END:VTIMEZONE
BEGIN:VEVENT
DTSTART;TZID=America/Lima:20190429T083000
DTEND;TZID=America/Lima:20190429T110000
DTSTAMP:20260421T194202
CREATED:20191022T190142Z
LAST-MODIFIED:20191022T190142Z
UID:3907-1556526600-1556535600@munimollendo.gob.pe
SUMMARY:reuniones internas
DESCRIPTION:reuniones internas. \n
URL:https://munimollendo.gob.pe/agenda/reuniones-internas-8/
LOCATION:Oficina de Alcaldia\, Jirón Arequipa No. 261\,\, Mollendo\, Islay\, Perú
END:VEVENT
END:VCALENDAR