BEGIN:VCALENDAR
VERSION:2.0
PRODID:-//Municipalidad Provincial de Islay - ECPv5.1.5//NONSGML v1.0//EN
CALSCALE:GREGORIAN
METHOD:PUBLISH
X-WR-CALNAME:Municipalidad Provincial de Islay
X-ORIGINAL-URL:https://munimollendo.gob.pe
X-WR-CALDESC:Eventos para Municipalidad Provincial de Islay
BEGIN:VTIMEZONE
TZID:America/Lima
BEGIN:STANDARD
TZOFFSETFROM:-0500
TZOFFSETTO:-0500
TZNAME:-05
DTSTART:20190101T000000
END:STANDARD
END:VTIMEZONE
BEGIN:VEVENT
DTSTART;TZID=America/Lima:20190404T100000
DTEND;TZID=America/Lima:20190404T170000
DTSTAMP:20260425T031333
CREATED:20191022T172837Z
LAST-MODIFIED:20191022T172837Z
UID:3828-1554372000-1554397200@munimollendo.gob.pe
SUMMARY:Reuniones en Arequipa en el gobierno regional
DESCRIPTION:Reuniones en Arequipa en el gobierno regional con las áreas de turismo\, presupuesto. Promperu\, con el gerente municipal\, la gerente de desarrollo social\, y el gerente de administración. \n
URL:https://munimollendo.gob.pe/agenda/reuniones-en-arequipa-en-el-gobierno-regional/
END:VEVENT
END:VCALENDAR