BEGIN:VCALENDAR
VERSION:2.0
PRODID:-//Municipalidad Provincial de Islay - ECPv5.1.5//NONSGML v1.0//EN
CALSCALE:GREGORIAN
METHOD:PUBLISH
X-WR-CALNAME:Municipalidad Provincial de Islay
X-ORIGINAL-URL:https://munimollendo.gob.pe
X-WR-CALDESC:Eventos para Municipalidad Provincial de Islay
BEGIN:VTIMEZONE
TZID:America/Lima
BEGIN:STANDARD
TZOFFSETFROM:-0500
TZOFFSETTO:-0500
TZNAME:-05
DTSTART:20210101T000000
END:STANDARD
END:VTIMEZONE
BEGIN:VEVENT
DTSTART;TZID=America/Lima:20210212T120000
DTEND;TZID=America/Lima:20210212T170000
DTSTAMP:20260424T153700
CREATED:20210223T222418Z
LAST-MODIFIED:20210223T222418Z
UID:9575-1613131200-1613149200@munimollendo.gob.pe
SUMMARY:REUNION DE PLATAFORMA DE DEFENSA CIVIL\, INSTALACION Y JURAMENTACION
DESCRIPTION:REUNION DE PLATAFORMA DE DEFENSA CIVIL\, INSTALACION Y JURAMENTACION \n
URL:https://munimollendo.gob.pe/agenda/reunion-de-plataforma-de-defensa-civil-instalacion-y-juramentacion/
LOCATION:Transmisión Virtual
END:VEVENT
END:VCALENDAR